BEGIN:VCALENDAR
VERSION:2.0
PRODID:awak.at
CALSCALE:GREGORIAN
METHOD:PUBLISH
BEGIN:VTIMEZONE
TZID:UTCTime
BEGIN:STANDARD
DTSTART:19671028T030000Z
RRULE:FREQ=YEARLY;BYDAY=-1SU;BYMONTH=10
TZOFFSETFROM:+0100
TZOFFSETTO:+0000
END:STANDARD
BEGIN:DAYLIGHT
DTSTART:19870325T020000Z
RRULE:FREQ=YEARLY;BYDAY=1SU;BYMONTH=3
TZOFFSETFROM:+0000
TZOFFSETTO:+0000
END:DAYLIGHT
END:VTIMEZONE
BEGIN:VEVENT
DTSTART;TZID=UTCTime:20260901T070000Z
DTEND;TZID=UTCTime:20260901T153000Z
SUMMARY:(20260901-8) Arbeitsrecht - Vertragsarten, Beendigung und arbeitsrechtliche Ansprüche sowie typische Klagsbeispiele
LOCATION:AWAK - LeopoldQuartier - Obere Donaustraße 25/1/1 - Raum "Themis", 1020 Wien (1020 Wien, Obere Donaustraße 25/1/1)
X-ALT-DESC;FMTTYPE=text/html:<p><strong>Dienstag, 1. September 2025</strong></p><p><strong>09.00 - 10.30&nbsp;Uhr:&nbsp;Sen.-Pr&auml;s. Hon.-Prof. Dr. Gerhard Kuras</strong></p><p>Besonderheiten des Arbeitsrechts</p><p>Rechtsquellen und deren Verh&auml;ltnis zueinander (KV, BV, Arbeitsvertrag);</p><p>Gleichbehandlung;</p><p>Vertragstypen (Arbeitsvertrag/freier Dienstvertrag/Werkvertrag)</p><p>&nbsp;</p><p><strong>11.00 - 12.30&nbsp;Uhr:&nbsp;Dr. Helmut Preyer</strong></p><p>Arbeitsvertragsinhalte und typische Vertragsklauseln.</p><p>&nbsp;</p><p><strong>13.30 - 15.00&nbsp;Uhr:&nbsp;Dr. Helmut Preyer</strong></p><p>Konkurrenzklausel, Ausbildungskostenr&uuml;ckersatz;</p><p>Schadenersatz im Dienstverh&auml;ltnis.</p><p>&nbsp;</p><p><strong>15.30 - 17.30&nbsp;Uhr:&nbsp;Dr. Jana Eichmeyer, LL.M.</strong></p><p>Grundlagen des Betriebs&uuml;bergangs</p><p>Beendigungsarten &ndash; allgemeiner und besonderer K&uuml;ndigungsschutz</p><p>Entlassungs- und Austrittsgr&uuml;nde</p><p>Arbeitnehmerinnenschutz bzw. Arbeitnehmerschutz und Verwaltungsstrafrecht.</p><p><br /><strong>Mittwoch, 2. September 2025</strong></p><p><strong>09.00 - 12.30&nbsp;Uhr:&nbsp;Hon.-Prof. Dr. Sieglinde Gahleitner</strong></p><p>Berechnung arbeitsrechtliche Anspr&uuml;che und Klagsbeispiel;</p><p>Beispiele Rechtsgestaltungs- und Feststellungsklagen im Arbeitsrecht;</p><p>Verfahrensrechtliche Besonderheiten im Arbeitsrecht;</p><p>Praxistipps zur Vergleichsgestaltung.</p>
PRIORITY:3
END:VEVENT
BEGIN:VEVENT
DTSTART;TZID=UTCTime:20260902T070000Z
DTEND;TZID=UTCTime:20260902T103000Z
SUMMARY:(20260901-8) Arbeitsrecht - Vertragsarten, Beendigung und arbeitsrechtliche Ansprüche sowie typische Klagsbeispiele
LOCATION:AWAK - LeopoldQuartier - Obere Donaustraße 25/1/1 - Raum "Themis", 1020 Wien (1020 Wien, Obere Donaustraße 25/1/1)
X-ALT-DESC;FMTTYPE=text/html:<p><strong>Dienstag, 1. September 2025</strong></p><p><strong>09.00 - 10.30&nbsp;Uhr:&nbsp;Sen.-Pr&auml;s. Hon.-Prof. Dr. Gerhard Kuras</strong></p><p>Besonderheiten des Arbeitsrechts</p><p>Rechtsquellen und deren Verh&auml;ltnis zueinander (KV, BV, Arbeitsvertrag);</p><p>Gleichbehandlung;</p><p>Vertragstypen (Arbeitsvertrag/freier Dienstvertrag/Werkvertrag)</p><p>&nbsp;</p><p><strong>11.00 - 12.30&nbsp;Uhr:&nbsp;Dr. Helmut Preyer</strong></p><p>Arbeitsvertragsinhalte und typische Vertragsklauseln.</p><p>&nbsp;</p><p><strong>13.30 - 15.00&nbsp;Uhr:&nbsp;Dr. Helmut Preyer</strong></p><p>Konkurrenzklausel, Ausbildungskostenr&uuml;ckersatz;</p><p>Schadenersatz im Dienstverh&auml;ltnis.</p><p>&nbsp;</p><p><strong>15.30 - 17.30&nbsp;Uhr:&nbsp;Dr. Jana Eichmeyer, LL.M.</strong></p><p>Grundlagen des Betriebs&uuml;bergangs</p><p>Beendigungsarten &ndash; allgemeiner und besonderer K&uuml;ndigungsschutz</p><p>Entlassungs- und Austrittsgr&uuml;nde</p><p>Arbeitnehmerinnenschutz bzw. Arbeitnehmerschutz und Verwaltungsstrafrecht.</p><p><br /><strong>Mittwoch, 2. September 2025</strong></p><p><strong>09.00 - 12.30&nbsp;Uhr:&nbsp;Hon.-Prof. Dr. Sieglinde Gahleitner</strong></p><p>Berechnung arbeitsrechtliche Anspr&uuml;che und Klagsbeispiel;</p><p>Beispiele Rechtsgestaltungs- und Feststellungsklagen im Arbeitsrecht;</p><p>Verfahrensrechtliche Besonderheiten im Arbeitsrecht;</p><p>Praxistipps zur Vergleichsgestaltung.</p>
PRIORITY:3
END:VEVENT
END:VCALENDAR
