BEGIN:VCALENDAR
VERSION:2.0
PRODID:awak.at
CALSCALE:GREGORIAN
METHOD:PUBLISH
BEGIN:VTIMEZONE
TZID:UTCTime
BEGIN:STANDARD
DTSTART:19671028T030000Z
RRULE:FREQ=YEARLY;BYDAY=-1SU;BYMONTH=10
TZOFFSETFROM:+0100
TZOFFSETTO:+0000
END:STANDARD
BEGIN:DAYLIGHT
DTSTART:19870325T020000Z
RRULE:FREQ=YEARLY;BYDAY=1SU;BYMONTH=3
TZOFFSETFROM:+0000
TZOFFSETTO:+0000
END:DAYLIGHT
END:VTIMEZONE
BEGIN:VEVENT
DTSTART;TZID=UTCTime:20260629T070000Z
DTEND;TZID=UTCTime:20260629T150000Z
SUMMARY:(20260629-8) Immobiliengeschäfte und ihre steuerrechtlichen Auswirkungen – Praktikerseminar für EinsteigerInnen und Fortgeschrittene
LOCATION:AWAK - LeopoldQuartier - Obere Donaustraße 25/1/1 - Raum "Themis", 1020 Wien (1020 Wien, Obere Donaustraße 25/1/1)
X-ALT-DESC;FMTTYPE=text/html:<p><strong>Montag, 29. Juni 2026, 09.00 - 17.00 Uhr&nbsp;</strong></p><p><strong>09.00 - 10.30 Uhr</strong></p><ul><li>GrESt&nbsp;</li></ul><p><strong>10.30 - 11.00 Uhr Pause</strong></p><p><strong>11.00 - 12.30 Uhr</strong></p><ul><li>ImmoESt&nbsp;</li><li>GGG/USt = Grundlagen, Neuerungen</li></ul><p><strong>12.30 - 13.30 Uhr Mittagspause</strong></p><p><strong>13.30 - 15.00 Uhr</strong></p><ul><li>Praxisf&auml;lle, anhand derer die steuerlichen Themen durchgesprochen und die Steuern berechnet werden</li></ul><p><strong>15.00 - 15.30 Uhr Pause&nbsp;</strong></p><p><strong>15.30 - 17.00&nbsp;</strong></p><ul><li>Praxisf&auml;lle, anhand derer die steuerlichen Themen durchgesprochen und die Steuern berechnet werden</li></ul><p>&nbsp;</p><p>&nbsp;</p><p>&nbsp;</p>
PRIORITY:3
END:VEVENT
END:VCALENDAR
